BEGIN:VCALENDAR
VERSION:2.0
PRODID:spatie/icalendar-generator
DESCRIPTION:村上病院のイベント
X-WR-CALDESC:村上病院のイベント
REFRESH-INTERVAL;VALUE=DURATION:PT1440M
X-PUBLISHED-TTL:PT1440M
BEGIN:VTIMEZONE
TZID:Etc/GMT-9
BEGIN:STANDARD
DTSTART:20230803T000000Z
TZOFFSETFROM:+0900
TZOFFSETTO:+0900
END:STANDARD
END:VTIMEZONE
BEGIN:VTIMEZONE
TZID:UTC
BEGIN:STANDARD
DTSTART:20250726T065520Z
TZOFFSETFROM:+0000
TZOFFSETTO:+0000
END:STANDARD
END:VTIMEZONE
BEGIN:VEVENT
UID:2872-40
DTSTAMP:20260422T065520Z
SUMMARY:祝日
LOCATION:
ORGANIZER;CN=webmanager:MAILTO:noreply@baby-calendar.jp
DTSTART;TZID=Etc/GMT-9;VALUE=DATE:20240429
DTEND;TZID=Etc/GMT-9;VALUE=DATE:20240430
X-ALT-DESC;FMTTYPE=TEXT/HTML:
CATEGORIES:class
URL;VALUE=URI:https://murakami-obgy.or.jp/school/?cid=mc-f6bb6487d70d26e332
 ae14b5cf111f64&#038;mc_id=2872&#038;vcal=2872
END:VEVENT
END:VCALENDAR