BEGIN:VCALENDAR
VERSION:2.0
PRODID:spatie/icalendar-generator
DESCRIPTION:村上病院のイベント
X-WR-CALDESC:村上病院のイベント
REFRESH-INTERVAL;VALUE=DURATION:PT1440M
X-PUBLISHED-TTL:PT1440M
BEGIN:VTIMEZONE
TZID:Etc/GMT-9
BEGIN:STANDARD
DTSTART:20241123T124500Z
TZOFFSETFROM:+0900
TZOFFSETTO:+0900
END:STANDARD
END:VTIMEZONE
BEGIN:VTIMEZONE
TZID:UTC
BEGIN:STANDARD
DTSTART:20250725T025225Z
TZOFFSETFROM:+0000
TZOFFSETTO:+0000
END:STANDARD
END:VTIMEZONE
BEGIN:VEVENT
UID:3836-104
DTSTAMP:20260421T025225Z
SUMMARY:ママヨガ（産後ヨガ）
LOCATION:
ORGANIZER;CN=webmanager:MAILTO:noreply@baby-calendar.jp
RRULE:FREQ=MONTHLY;BYDAY=3WE;UNTIL=20251016T000000Z
DTSTART;TZID=Etc/GMT-9:20250820T124500
DTEND;TZID=Etc/GMT-9:20250820T140000
X-ALT-DESC;FMTTYPE=TEXT/HTML:
CATEGORIES:class
URL;VALUE=URI:https://murakami-obgy.or.jp/school/?cid=mc-f6bb6487d70d26e332
 ae14b5cf111f64&#038;mc_id=3836&#038;vcal=3836
END:VEVENT
END:VCALENDAR