BEGIN:VCALENDAR
VERSION:2.0
PRODID:spatie/icalendar-generator
DESCRIPTION:村上病院のイベント
X-WR-CALDESC:村上病院のイベント
REFRESH-INTERVAL;VALUE=DURATION:PT1440M
X-PUBLISHED-TTL:PT1440M
BEGIN:VTIMEZONE
TZID:Etc/GMT-9
BEGIN:STANDARD
DTSTART:20250502T093000Z
TZOFFSETFROM:+0900
TZOFFSETTO:+0900
END:STANDARD
END:VTIMEZONE
BEGIN:VTIMEZONE
TZID:UTC
BEGIN:STANDARD
DTSTART:20250724T173553Z
TZOFFSETFROM:+0000
TZOFFSETTO:+0000
END:STANDARD
END:VTIMEZONE
BEGIN:VEVENT
UID:3962-186
DTSTAMP:20260420T173553Z
SUMMARY:ファミリーフォト
LOCATION:
ORGANIZER;CN=murakami-obgy:MAILTO:noreply+murakami-obgy@babypad.jp
DTSTART;TZID=Etc/GMT-9:20260127T093000
DTEND;TZID=Etc/GMT-9:20260127T103000
X-ALT-DESC;FMTTYPE=TEXT/HTML:
CATEGORIES:class
URL;VALUE=URI:https://murakami-obgy.or.jp/school/?cid=mc-f6bb6487d70d26e332
 ae14b5cf111f64&#038;mc_id=3962&#038;vcal=3962
END:VEVENT
END:VCALENDAR