BEGIN:VCALENDAR
VERSION:2.0
PRODID:spatie/icalendar-generator
DESCRIPTION:村上病院のイベント
X-WR-CALDESC:村上病院のイベント
REFRESH-INTERVAL;VALUE=DURATION:PT1440M
X-PUBLISHED-TTL:PT1440M
BEGIN:VTIMEZONE
TZID:Etc/GMT-9
BEGIN:STANDARD
DTSTART:20241029T133000Z
TZOFFSETFROM:+0900
TZOFFSETTO:+0900
END:STANDARD
END:VTIMEZONE
BEGIN:VTIMEZONE
TZID:UTC
BEGIN:STANDARD
DTSTART:20250725T063053Z
TZOFFSETFROM:+0000
TZOFFSETTO:+0000
END:STANDARD
END:VTIMEZONE
BEGIN:VEVENT
UID:2591-52
DTSTAMP:20260421T063053Z
SUMMARY:ソフロロジー教室
LOCATION:
ORGANIZER;CN=webmanager:MAILTO:noreply@baby-calendar.jp
DTSTART;TZID=Etc/GMT-9:20250726T133000
DTEND;TZID=Etc/GMT-9:20250726T143000
X-ALT-DESC;FMTTYPE=TEXT/HTML:
CATEGORIES:class
URL;VALUE=URI:https://murakami-obgy.or.jp/school/?mc_id=2591&#038;vcal=2591
END:VEVENT
END:VCALENDAR