BEGIN:VCALENDAR
VERSION:2.0
PRODID:spatie/icalendar-generator
DESCRIPTION:村上病院のイベント
X-WR-CALDESC:村上病院のイベント
REFRESH-INTERVAL;VALUE=DURATION:PT1440M
X-PUBLISHED-TTL:PT1440M
BEGIN:VTIMEZONE
TZID:Etc/GMT-9
BEGIN:STANDARD
DTSTART:20250211T133000Z
TZOFFSETFROM:+0900
TZOFFSETTO:+0900
END:STANDARD
END:VTIMEZONE
BEGIN:VTIMEZONE
TZID:UTC
BEGIN:STANDARD
DTSTART:20250724T230331Z
TZOFFSETFROM:+0000
TZOFFSETTO:+0000
END:STANDARD
END:VTIMEZONE
BEGIN:VEVENT
UID:2619-30
DTSTAMP:20260420T230331Z
SUMMARY:おっぱいスクール
LOCATION:
ORGANIZER;CN=webmanager:MAILTO:noreply@baby-calendar.jp
RRULE:FREQ=MONTHLY;BYDAY=2SA;UNTIL=20251213T000000Z
DTSTART;TZID=Etc/GMT-9:20251108T133000
DTEND;TZID=Etc/GMT-9:20251108T143000
X-ALT-DESC;FMTTYPE=TEXT/HTML:
CATEGORIES:class
URL;VALUE=URI:https://murakami-obgy.or.jp/school/?mc_id=2619&#038;vcal=2619
END:VEVENT
END:VCALENDAR