BEGIN:VCALENDAR
VERSION:2.0
PRODID:spatie/icalendar-generator
DESCRIPTION:村上病院のイベント
X-WR-CALDESC:村上病院のイベント
REFRESH-INTERVAL;VALUE=DURATION:PT1440M
X-PUBLISHED-TTL:PT1440M
BEGIN:VTIMEZONE
TZID:Etc/GMT-9
BEGIN:STANDARD
DTSTART:20240609T130000Z
TZOFFSETFROM:+0900
TZOFFSETTO:+0900
END:STANDARD
END:VTIMEZONE
BEGIN:VTIMEZONE
TZID:UTC
BEGIN:STANDARD
DTSTART:20250725T133853Z
TZOFFSETFROM:+0000
TZOFFSETTO:+0000
END:STANDARD
END:VTIMEZONE
BEGIN:VEVENT
UID:2709-32
DTSTAMP:20260421T133853Z
SUMMARY:マタニティヨガ
LOCATION:
ORGANIZER;CN=webmanager:MAILTO:noreply@baby-calendar.jp
RRULE:FREQ=WEEKLY;UNTIL=20250627T000000Z
DTSTART;TZID=Etc/GMT-9:20250306T130000
DTEND;TZID=Etc/GMT-9:20250306T140000
X-ALT-DESC;FMTTYPE=TEXT/HTML:
CATEGORIES:class
URL;VALUE=URI:https://murakami-obgy.or.jp/school/?mc_id=2709&#038;vcal=2709
END:VEVENT
END:VCALENDAR