BEGIN:VCALENDAR
VERSION:2.0
PRODID:spatie/icalendar-generator
DESCRIPTION:村上病院のイベント
X-WR-CALDESC:村上病院のイベント
REFRESH-INTERVAL;VALUE=DURATION:PT1440M
X-PUBLISHED-TTL:PT1440M
BEGIN:VTIMEZONE
TZID:Etc/GMT-9
BEGIN:STANDARD
DTSTART:20231125T100000Z
TZOFFSETFROM:+0900
TZOFFSETTO:+0900
END:STANDARD
END:VTIMEZONE
BEGIN:VTIMEZONE
TZID:UTC
BEGIN:STANDARD
DTSTART:20250726T024441Z
TZOFFSETFROM:+0000
TZOFFSETTO:+0000
END:STANDARD
END:VTIMEZONE
BEGIN:VEVENT
UID:2928-36
DTSTAMP:20260422T024441Z
SUMMARY:ベビーマッサージ＋フォト
LOCATION:
ORGANIZER;CN=murakami-obgy:MAILTO:noreply+murakami-obgy@babypad.jp
DTSTART;TZID=Etc/GMT-9:20240821T100000
DTEND;TZID=Etc/GMT-9:20240821T110000
X-ALT-DESC;FMTTYPE=TEXT/HTML:
CATEGORIES:class
URL;VALUE=URI:https://murakami-obgy.or.jp/school/?mc_id=2928&#038;vcal=2928
END:VEVENT
END:VCALENDAR