BEGIN:VCALENDAR
VERSION:2.0
PRODID:spatie/icalendar-generator
DESCRIPTION:村上病院のイベント
X-WR-CALDESC:村上病院のイベント
REFRESH-INTERVAL;VALUE=DURATION:PT1440M
X-PUBLISHED-TTL:PT1440M
BEGIN:VTIMEZONE
TZID:Etc/GMT-9
BEGIN:STANDARD
DTSTART:20250130T130000Z
TZOFFSETFROM:+0900
TZOFFSETTO:+0900
END:STANDARD
END:VTIMEZONE
BEGIN:VTIMEZONE
TZID:UTC
BEGIN:STANDARD
DTSTART:20250724T230338Z
TZOFFSETFROM:+0000
TZOFFSETTO:+0000
END:STANDARD
END:VTIMEZONE
BEGIN:VEVENT
UID:3920-137
DTSTAMP:20260420T230338Z
SUMMARY:ベビーマッサージ＋フォト
LOCATION:
ORGANIZER;CN=murakami-obgy:MAILTO:noreply+murakami-obgy@babypad.jp
DTSTART;TZID=Etc/GMT-9:20251027T130000
DTEND;TZID=Etc/GMT-9:20251027T140000
X-ALT-DESC;FMTTYPE=TEXT/HTML:
CATEGORIES:class
URL;VALUE=URI:https://murakami-obgy.or.jp/school/?mc_id=3920&#038;vcal=3920
END:VEVENT
END:VCALENDAR