BEGIN:VCALENDAR
VERSION:2.0
PRODID:spatie/icalendar-generator
DESCRIPTION:村上病院のイベント
X-WR-CALDESC:村上病院のイベント
REFRESH-INTERVAL;VALUE=DURATION:PT1440M
X-PUBLISHED-TTL:PT1440M
BEGIN:VTIMEZONE
TZID:Etc/GMT-9
BEGIN:STANDARD
DTSTART:20250516T103000Z
TZOFFSETFROM:+0900
TZOFFSETTO:+0900
END:STANDARD
END:VTIMEZONE
BEGIN:VTIMEZONE
TZID:UTC
BEGIN:STANDARD
DTSTART:20250724T171003Z
TZOFFSETFROM:+0000
TZOFFSETTO:+0000
END:STANDARD
END:VTIMEZONE
BEGIN:VEVENT
UID:3989-212
DTSTAMP:20260420T171003Z
SUMMARY:ファミリーフォト
LOCATION:
ORGANIZER;CN=murakami-obgy:MAILTO:noreply+murakami-obgy@babypad.jp
DTSTART;TZID=Etc/GMT-9:20260210T103000
DTEND;TZID=Etc/GMT-9:20260210T113000
X-ALT-DESC;FMTTYPE=TEXT/HTML:
CATEGORIES:class
URL;VALUE=URI:https://murakami-obgy.or.jp/school/?mc_id=3989&#038;vcal=3989
END:VEVENT
END:VCALENDAR